BEGIN:VCALENDAR
VERSION:2.0
PRODID:-//Tukios.com/
BEGIN:VEVENT
UID:cf4888d8-3061-41a6-b893-9b523c4c136a@www.harrisfhc.com
DTSTAMP:20260423T193358Z
DTSTART:20260425T180000Z
DTEND:20260425T190000Z
SUMMARY:Funeral Service
DESCRIPTION:
URL:https://www.harrisfhc.com/obituaries/mary-esther-elam
LOCATION: 1304 N Main St  Chase City VA 23924
GEO:36.8139539;-78.4664294
END:VEVENT
END:VCALENDAR