BEGIN:VCALENDAR
VERSION:2.0
PRODID:-//Tukios.com/
BEGIN:VEVENT
UID:a8f45c2f-442d-43c6-ab58-cba2661fec79@www.harrisfhc.com
DTSTAMP:20260423T193044Z
DTSTART:20260425
SUMMARY:Burial
DESCRIPTION:
URL:https://www.harrisfhc.com/obituaries/mary-esther-elam
LOCATION: 930 Finneywood Road  Chase City VA 23924
GEO:36.8682673;-78.4892461
END:VEVENT
END:VCALENDAR