BEGIN:VCALENDAR
VERSION:2.0
PRODID:-//Tukios.com/
BEGIN:VEVENT
UID:9e7ca629-00e9-4342-9850-a4fe24dd9025@www.harrisfhc.com
DTSTAMP:20260421T232411Z
DTSTART:20260430T170000Z
DTEND:20260430T180000Z
SUMMARY:Graveside Service
DESCRIPTION:
URL:https://www.harrisfhc.com/obituaries/stephen-terry-jr
LOCATION:Cedar Grove Baptist Church #2 Cemetery 212 Church Road  
	Clarksville VA 23927
GEO:36.5519983;-78.4880816
END:VEVENT
END:VCALENDAR