BEGIN:VCALENDAR
VERSION:2.0
PRODID:-//Tukios.com/
BEGIN:VEVENT
UID:71c28c7e-1343-400b-8c1d-2f9e6106a9e4@www.harrisfhc.com
DTSTAMP:20260421T232946Z
DTSTART:20260430T153000Z
DTEND:20260430T163000Z
SUMMARY:Viewing
DESCRIPTION:
URL:https://www.harrisfhc.com/obituaries/stephen-terry-jr
LOCATION:C. H. Harris Funeral Home 5717 U.S. 58  Buffalo Junction VA 
	24529
GEO:36.6182344;-78.6138162
END:VEVENT
END:VCALENDAR